BEGIN:VCALENDAR
VERSION:2.0
PRODID:icalendar-ruby
CALSCALE:GREGORIAN
METHOD:PUBLISH
BEGIN:VEVENT
DTSTAMP:20260419T171433Z
UID:14-612685@firstumc168.tithelysetup5.com
DTSTART:20261020T123000Z
DTEND:20261020T133000Z
CLASS:PUBLIC
CREATED:20260419T131034
DESCRIPTION:
LAST-MODIFIED:20260419T131034
LOCATION:Library
SUMMARY:Women's Covenant Group
URL;VALUE=URI:https://www.fumcoakhurst.com/events/womens-covenant-group/202
 6-10-20
END:VEVENT
END:VCALENDAR
