BEGIN:VCALENDAR
VERSION:2.0
PRODID:icalendar-ruby
CALSCALE:GREGORIAN
METHOD:PUBLISH
BEGIN:VEVENT
DTSTAMP:20260420T041335Z
UID:5-614233@firstumc168.tithelysetup5.com
DTSTART:20261101T143000Z
DTEND:20261101T153000Z
CLASS:PUBLIC
CREATED:20260420T001154
DESCRIPTION:Sunday Worship
LAST-MODIFIED:20260420T001154
LOCATION:
SUMMARY:Sunday Worship
URL;VALUE=URI:https://www.fumcoakhurst.com/events/sunday-worship/2026-11-01
END:VEVENT
END:VCALENDAR
