BEGIN:VCALENDAR
VERSION:2.0
PRODID:icalendar-ruby
CALSCALE:GREGORIAN
METHOD:PUBLISH
BEGIN:VEVENT
DTSTAMP:20260420T005659Z
UID:5-613613@firstumc168.tithelysetup5.com
DTSTART:20261018T133000Z
DTEND:20261018T143000Z
CLASS:PUBLIC
CREATED:20260419T203445
DESCRIPTION:Sunday Worship
LAST-MODIFIED:20260419T203445
LOCATION:
SUMMARY:Sunday Worship
URL;VALUE=URI:https://www.fumcoakhurst.com/events/sunday-worship/2026-10-18
END:VEVENT
END:VCALENDAR
