BEGIN:VCALENDAR
VERSION:2.0
PRODID:icalendar-ruby
CALSCALE:GREGORIAN
METHOD:PUBLISH
BEGIN:VEVENT
DTSTAMP:20260419T201716Z
UID:5-612374@firstumc168.tithelysetup5.com
DTSTART:20260927T133000Z
DTEND:20260927T143000Z
CLASS:PUBLIC
CREATED:20260419T131033
DESCRIPTION:Sunday Worship
LAST-MODIFIED:20260419T131033
LOCATION:
SUMMARY:Sunday Worship
URL;VALUE=URI:https://www.fumcoakhurst.com/events/sunday-worship/2026-09-27
END:VEVENT
END:VCALENDAR
