BEGIN:VCALENDAR
VERSION:2.0
PRODID:icalendar-ruby
CALSCALE:GREGORIAN
METHOD:PUBLISH
BEGIN:VEVENT
DTSTAMP:20260420T031432Z
UID:17-614101@firstumc168.tithelysetup5.com
DTSTART:20261022T223000Z
DTEND:20261022T233000Z
CLASS:PUBLIC
CREATED:20260419T203447
DESCRIPTION:
LAST-MODIFIED:20260419T203447
LOCATION:Sanctuary
SUMMARY:Chancel Choir
URL;VALUE=URI:https://www.fumcoakhurst.com/events/chancel-choir/2026-10-22
END:VEVENT
END:VCALENDAR
