BEGIN:VCALENDAR
VERSION:2.0
PRODID:icalendar-ruby
CALSCALE:GREGORIAN
METHOD:PUBLISH
BEGIN:VEVENT
DTSTAMP:20260419T235811Z
UID:17-613481@firstumc168.tithelysetup5.com
DTSTART:20261008T223000Z
DTEND:20261008T233000Z
CLASS:PUBLIC
CREATED:20260419T165249
DESCRIPTION:
LAST-MODIFIED:20260419T165249
LOCATION:Sanctuary
SUMMARY:Chancel Choir
URL;VALUE=URI:https://www.fumcoakhurst.com/events/chancel-choir/2026-10-08
END:VEVENT
END:VCALENDAR
