BEGIN:VCALENDAR
VERSION:2.0
PRODID:icalendar-ruby
CALSCALE:GREGORIAN
METHOD:PUBLISH
BEGIN:VEVENT
DTSTAMP:20260419T184640Z
UID:17-612860@firstumc168.tithelysetup5.com
DTSTART:20260917T223000Z
DTEND:20260917T233000Z
CLASS:PUBLIC
CREATED:20260419T131035
DESCRIPTION:
LAST-MODIFIED:20260419T131035
LOCATION:Sanctuary
SUMMARY:Chancel Choir
URL;VALUE=URI:https://www.fumcoakhurst.com/events/chancel-choir/2026-09-17
END:VEVENT
END:VCALENDAR
