BEGIN:VCALENDAR
VERSION:2.0
PRODID:icalendar-ruby
CALSCALE:GREGORIAN
METHOD:PUBLISH
BEGIN:VEVENT
DTSTAMP:20260419T152742Z
UID:17-612240@firstumc168.tithelysetup5.com
DTSTART:20260903T223000Z
DTEND:20260903T233000Z
CLASS:PUBLIC
CREATED:20260419T092832
DESCRIPTION:
LAST-MODIFIED:20260419T092832
LOCATION:Sanctuary
SUMMARY:Chancel Choir
URL;VALUE=URI:https://www.fumcoakhurst.com/events/chancel-choir/2026-09-03
END:VEVENT
END:VCALENDAR
