BEGIN:VCALENDAR
VERSION:2.0
PRODID:icalendar-ruby
CALSCALE:GREGORIAN
METHOD:PUBLISH
BEGIN:VEVENT
DTSTAMP:20260420T070355Z
UID:18-614778@firstumc168.tithelysetup5.com
DTSTART:20261029T233000Z
DTEND:20261030T003000Z
CLASS:PUBLIC
CREATED:20260420T001155
DESCRIPTION:
LAST-MODIFIED:20260420T001155
LOCATION:Sanctuary
SUMMARY:Carillon Choir
URL;VALUE=URI:https://www.fumcoakhurst.com/events/carillon-choir/2026-10-29
END:VEVENT
END:VCALENDAR
