BEGIN:VCALENDAR
VERSION:2.0
PRODID:icalendar-ruby
CALSCALE:GREGORIAN
METHOD:PUBLISH
BEGIN:VEVENT
DTSTAMP:20260420T033100Z
UID:18-614158@firstumc168.tithelysetup5.com
DTSTART:20261015T233000Z
DTEND:20261016T003000Z
CLASS:PUBLIC
CREATED:20260419T203447
DESCRIPTION:
LAST-MODIFIED:20260419T203447
LOCATION:Sanctuary
SUMMARY:Carillon Choir
URL;VALUE=URI:https://www.fumcoakhurst.com/events/carillon-choir/2026-10-15
END:VEVENT
END:VCALENDAR
