BEGIN:VCALENDAR
VERSION:2.0
PRODID:icalendar-ruby
CALSCALE:GREGORIAN
METHOD:PUBLISH
BEGIN:VEVENT
DTSTAMP:20260420T001828Z
UID:18-613538@firstumc168.tithelysetup5.com
DTSTART:20261001T233000Z
DTEND:20261002T003000Z
CLASS:PUBLIC
CREATED:20260419T165249
DESCRIPTION:
LAST-MODIFIED:20260419T165249
LOCATION:Sanctuary
SUMMARY:Carillon Choir
URL;VALUE=URI:https://www.fumcoakhurst.com/events/carillon-choir/2026-10-01
END:VEVENT
END:VCALENDAR
