BEGIN:VCALENDAR
VERSION:2.0
PRODID:icalendar-ruby
CALSCALE:GREGORIAN
METHOD:PUBLISH
BEGIN:VEVENT
DTSTAMP:20260419T173107Z
UID:18-612916@firstumc168.tithelysetup5.com
DTSTART:20260903T233000Z
DTEND:20260904T003000Z
CLASS:PUBLIC
CREATED:20260419T131035
DESCRIPTION:
LAST-MODIFIED:20260419T131035
LOCATION:Sanctuary
SUMMARY:Carillon Choir
URL;VALUE=URI:https://www.fumcoakhurst.com/events/carillon-choir/2026-09-03
END:VEVENT
END:VCALENDAR
