BEGIN:VCALENDAR
VERSION:2.0
PRODID:icalendar-ruby
CALSCALE:GREGORIAN
METHOD:PUBLISH
BEGIN:VEVENT
DTSTAMP:20260419T190307Z
UID:10-612439@firstumc168.tithelysetup5.com
DTSTART:20261020T140000Z
DTEND:20261020T150000Z
CLASS:PUBLIC
CREATED:20260419T131034
DESCRIPTION:
LAST-MODIFIED:20260419T131034
LOCATION:
SUMMARY:Alanon
URL;VALUE=URI:https://www.fumcoakhurst.com/events/alanon/2026-10-20
END:VEVENT
END:VCALENDAR
