BEGIN:VCALENDAR
VERSION:2.0
PRODID:icalendar-ruby
CALSCALE:GREGORIAN
METHOD:PUBLISH
BEGIN:VEVENT
DTSTAMP:20260419T171456Z
UID:10-612438@firstumc168.tithelysetup5.com
DTSTART:20261013T140000Z
DTEND:20261013T150000Z
CLASS:PUBLIC
CREATED:20260419T131034
DESCRIPTION:
LAST-MODIFIED:20260419T131034
LOCATION:
SUMMARY:Alanon
URL;VALUE=URI:https://www.fumcoakhurst.com/events/alanon/2026-10-13
END:VEVENT
END:VCALENDAR
