BEGIN:VCALENDAR
VERSION:2.0
PRODID:icalendar-ruby
CALSCALE:GREGORIAN
METHOD:PUBLISH
BEGIN:VEVENT
DTSTAMP:20260419T141100Z
UID:10-611818@firstumc168.tithelysetup5.com
DTSTART:20260929T140000Z
DTEND:20260929T150000Z
CLASS:PUBLIC
CREATED:20260419T092831
DESCRIPTION:
LAST-MODIFIED:20260419T092831
LOCATION:
SUMMARY:Alanon
URL;VALUE=URI:https://www.fumcoakhurst.com/events/alanon/2026-09-29
END:VEVENT
END:VCALENDAR
