BEGIN:VCALENDAR
VERSION:2.0
PRODID:icalendar-ruby
CALSCALE:GREGORIAN
METHOD:PUBLISH
BEGIN:VEVENT
DTSTAMP:20260419T122836Z
UID:10-611200@firstumc168.tithelysetup5.com
DTSTART:20260922T140000Z
DTEND:20260922T150000Z
CLASS:PUBLIC
CREATED:20260419T040421
DESCRIPTION:
LAST-MODIFIED:20260419T040421
LOCATION:
SUMMARY:Alanon
URL;VALUE=URI:https://www.fumcoakhurst.com/events/alanon/2026-09-22
END:VEVENT
END:VCALENDAR
