BEGIN:VCALENDAR
VERSION:2.0
PRODID:icalendar-ruby
CALSCALE:GREGORIAN
METHOD:PUBLISH
BEGIN:VEVENT
DTSTAMP:20260419T161711Z
UID:13-612003@firstumc168.tithelysetup5.com
DTSTART:20261002T230000Z
DTEND:20261003T000000Z
CLASS:PUBLIC
CREATED:20260419T092832
DESCRIPTION:
LAST-MODIFIED:20260419T092832
LOCATION:Wesley Hall
SUMMARY:AA Weekly Meeting
URL;VALUE=URI:https://www.fumcoakhurst.com/events/aa-weekly-meeting--13/202
 6-10-02
END:VEVENT
END:VCALENDAR
